BEGIN:VCALENDAR
VERSION:2.0
PRODID:-//eventon.com NONSGML v1.0//EN
CALSCALE:GREGORIAN
METHOD:PUBLISH
BEGIN:VEVENT
UID:69e5d4df518eb
DTSTAMP:20260420T072519Z
DTSTART:20241104T123000Z
DTEND:20241108T163000Z
LOCATION:https://us06web.zoom.us/j/89792021172?pwd=XD9aq8b5LGbOXw1wZ34k6o5iJDNOaW.1
SUMMARY:DASM NOV 24
DESCRIPTION:What You Will Learn from DASM Agile and lean fundamentals\,  an
 d how you can use both approaches to produce value for your teams. Multiple
  agile and lean techniques from methods like Scrum\,  Kanban\,  SAFe®\,  a
 nd more. Understand how to put these techniques into practice to ensure suc
 cessful implementation. Appreciate the[..]\nhttps://empiriclab.in/events/da
 sm-nov-24/var/event_access
URL:https://empiriclab.in/events/dasm-nov-24/var/event_access
END:VEVENT
END:VCALENDAR