BEGIN:VCALENDAR
VERSION:2.0
PRODID:-//eventon.com NONSGML v1.0//EN
CALSCALE:GREGORIAN
METHOD:PUBLISH
BEGIN:VEVENT
UID:69e602a162629
DTSTAMP:20260420T104033Z
DTSTART:20240903T013000Z
DTEND:20240906T053000Z
LOCATION:
SUMMARY:Disciplined Agile Coach (DAC) Certification
DESCRIPTION:Take your Disciplined Agile® knowledge and experience to the n
 ext level. Help organizations achieve true agility by coaching teams across
  the enterprise on how to apply Disciplined Agile and choose their best way
  of working. What You Will Learn Understand how to align teams with organiz
 ational strategies and goals to[..]\nhttps://empiriclab.in/events/disciplin
 ed-agile-coach-dac-certification-5/
URL:https://empiriclab.in/events/disciplined-agile-coach-dac-certification-5/
END:VEVENT
END:VCALENDAR