BEGIN:VCALENDAR
VERSION:2.0
PRODID:-//eventon.com NONSGML v1.0//EN
CALSCALE:GREGORIAN
METHOD:PUBLISH
BEGIN:VEVENT
UID:69e5eefd5d432
DTSTAMP:20260420T091645Z
DTSTART:20210306T083000Z
DTEND:20210307T173000Z
LOCATION:
SUMMARY:Live-Online – SAFe Product Owner / Product Manager with Certified SAFe® Product Owner / Product Manager
DESCRIPTION:What Is SAFe Product Owner / Product Manager ? Develop the skil
 lsets needed to guide the delivery of value in a Lean enterprise by becomin
 g a SAFe® 5 Product Owner/Product Manager (POPM). During this two-day cour
 se\,  attendees gain an in-depth understanding of how to effectively perfor
 m their role in the[..]\nhttps://empiriclab.in/events/live-online-safe-prod
 uct-owner-product-manager-with-certified-safe-product-owner-product-manager
 -4/
URL:https://empiriclab.in/events/live-online-safe-product-owner-product-manager-with-certified-safe-product-owner-product-manager-4/
END:VEVENT
END:VCALENDAR