BEGIN:VCALENDAR
VERSION:2.0
PRODID:-//eventon.com NONSGML v1.0//EN
CALSCALE:GREGORIAN
METHOD:PUBLISH
BEGIN:VEVENT
UID:69e5ed955df4d
DTSTAMP:20260420T091045Z
DTSTART:20200914T173000Z
DTEND:20200918T023000Z
LOCATION:Live - Online via Zoom\,  IST (Timezone)
SUMMARY:Live Virtual – Scaled Agile Presents: Implementing SAFe® (5.0) with Certified SAFe® Program Consultant – Provided by Enterprise Agile – Hosted by Aleph Technologies
DESCRIPTION:Live Virtual &#8211; Scaled Agile Presents: Implementing SAFe®
  (5.0) with Certified SAFe® Program Consultant –  Provided by Enterpris
 e Agile &#8211; Hosted by Aleph Technologies During this four-day course\, 
  attendees will learn how to lead a Lean-Agile transformation by leveraging
  the practices and principles of the Scaled Agile Framework® (SAFe®)\,  a
 s[..]\nhttps://empiriclab.in/events/live-virtual-scaled-agile-presents-impl
 ementing-safe-5-0-with-certified-safe-program-consultant-provided-by-enterp
 rise-agile-hosted-by-aleph-technologies-5/
URL:https://empiriclab.in/events/live-virtual-scaled-agile-presents-implementing-safe-5-0-with-certified-safe-program-consultant-provided-by-enterprise-agile-hosted-by-aleph-technologies-5/
END:VEVENT
END:VCALENDAR