BEGIN:VCALENDAR
VERSION:2.0
PRODID:-//eventon.com NONSGML v1.0//EN
CALSCALE:GREGORIAN
METHOD:PUBLISH
BEGIN:VEVENT
UID:69e600b4092fe
DTSTAMP:20260420T103220Z
DTSTART:20200606T090000Z
DTEND:20200607T180000Z
LOCATION:Live - Online via Zoom\,  IST (Timezone)
SUMMARY:Live-Online: SAFe DevOps with Certified SAFe® DevOps Practitioner
DESCRIPTION:What Is SAFe DevOps ? To compete in a disruptive global market\
 ,  every organization needs to deliver valuable technology solutions at the
  speed of business. This requires a shared DevOps mindset among all the peo
 ple needed to define\,  build\,  test\,  deploy\,  and release software-dri
 ven systems—not just the engineers operating a[..]\nhttps://empiriclab.in
 /events/live-online-safe-devops-with-certified-safe-devops-practitioner-5/
URL:https://empiriclab.in/events/live-online-safe-devops-with-certified-safe-devops-practitioner-5/
END:VEVENT
END:VCALENDAR